BEGIN:VCALENDAR
VERSION:2.0
PRODID:-//Mountain Home Chamber of Commerce - ECPv6.15.20//NONSGML v1.0//EN
CALSCALE:GREGORIAN
METHOD:PUBLISH
X-ORIGINAL-URL:https://mountainhomechamber.com
X-WR-CALDESC:Events for Mountain Home Chamber of Commerce
REFRESH-INTERVAL;VALUE=DURATION:PT1H
X-Robots-Tag:noindex
X-PUBLISHED-TTL:PT1H
BEGIN:VTIMEZONE
TZID:America/Boise
BEGIN:DAYLIGHT
TZOFFSETFROM:-0700
TZOFFSETTO:-0600
TZNAME:MDT
DTSTART:20250309T090000
END:DAYLIGHT
BEGIN:STANDARD
TZOFFSETFROM:-0600
TZOFFSETTO:-0700
TZNAME:MST
DTSTART:20251102T080000
END:STANDARD
BEGIN:DAYLIGHT
TZOFFSETFROM:-0700
TZOFFSETTO:-0600
TZNAME:MDT
DTSTART:20260308T090000
END:DAYLIGHT
BEGIN:STANDARD
TZOFFSETFROM:-0600
TZOFFSETTO:-0700
TZNAME:MST
DTSTART:20261101T080000
END:STANDARD
BEGIN:DAYLIGHT
TZOFFSETFROM:-0700
TZOFFSETTO:-0600
TZNAME:MDT
DTSTART:20270314T090000
END:DAYLIGHT
BEGIN:STANDARD
TZOFFSETFROM:-0600
TZOFFSETTO:-0700
TZNAME:MST
DTSTART:20271107T080000
END:STANDARD
END:VTIMEZONE
BEGIN:VEVENT
DTSTART;TZID=America/Boise:20260316T120000
DTEND;TZID=America/Boise:20260316T130000
DTSTAMP:20260420T035128
CREATED:20260310T192210Z
LAST-MODIFIED:20260310T192210Z
UID:3061-1773662400-1773666000@mountainhomechamber.com
SUMMARY:Chamber Luncheon
DESCRIPTION:
URL:https://mountainhomechamber.com/event/chamber-luncheon-14/
END:VEVENT
BEGIN:VEVENT
DTSTART;TZID=America/Boise:20260325T120000
DTEND;TZID=America/Boise:20260325T130000
DTSTAMP:20260420T035128
CREATED:20260310T192250Z
LAST-MODIFIED:20260310T192250Z
UID:3063-1774440000-1774443600@mountainhomechamber.com
SUMMARY:MAC Luncheon
DESCRIPTION:
URL:https://mountainhomechamber.com/event/mac-luncheon-2/
END:VEVENT
BEGIN:VEVENT
DTSTART;TZID=America/Boise:20260328T160000
DTEND;TZID=America/Boise:20260328T200000
DTSTAMP:20260420T035128
CREATED:20260127T173858Z
LAST-MODIFIED:20260128T151824Z
UID:3010-1774713600-1774728000@mountainhomechamber.com
SUMMARY:Chamber Bowling Tournament
DESCRIPTION:
URL:https://mountainhomechamber.com/event/chamber-bowling-tournament-2/
END:VEVENT
END:VCALENDAR