BEGIN:VCALENDAR
VERSION:2.0
PRODID:-//Mountain Home Chamber of Commerce - ECPv6.15.20//NONSGML v1.0//EN
CALSCALE:GREGORIAN
METHOD:PUBLISH
X-ORIGINAL-URL:https://mountainhomechamber.com
X-WR-CALDESC:Events for Mountain Home Chamber of Commerce
REFRESH-INTERVAL;VALUE=DURATION:PT1H
X-Robots-Tag:noindex
X-PUBLISHED-TTL:PT1H
BEGIN:VTIMEZONE
TZID:America/Boise
BEGIN:DAYLIGHT
TZOFFSETFROM:-0700
TZOFFSETTO:-0600
TZNAME:MDT
DTSTART:20230312T090000
END:DAYLIGHT
BEGIN:STANDARD
TZOFFSETFROM:-0600
TZOFFSETTO:-0700
TZNAME:MST
DTSTART:20231105T080000
END:STANDARD
BEGIN:DAYLIGHT
TZOFFSETFROM:-0700
TZOFFSETTO:-0600
TZNAME:MDT
DTSTART:20240310T090000
END:DAYLIGHT
BEGIN:STANDARD
TZOFFSETFROM:-0600
TZOFFSETTO:-0700
TZNAME:MST
DTSTART:20241103T080000
END:STANDARD
BEGIN:DAYLIGHT
TZOFFSETFROM:-0700
TZOFFSETTO:-0600
TZNAME:MDT
DTSTART:20250309T090000
END:DAYLIGHT
BEGIN:STANDARD
TZOFFSETFROM:-0600
TZOFFSETTO:-0700
TZNAME:MST
DTSTART:20251102T080000
END:STANDARD
END:VTIMEZONE
BEGIN:VEVENT
DTSTART;TZID=America/Boise:20240120T170000
DTEND;TZID=America/Boise:20240120T220000
DTSTAMP:20260420T055823
CREATED:20231204T120037Z
LAST-MODIFIED:20231222T201122Z
UID:2250-1705770000-1705788000@mountainhomechamber.com
SUMMARY:79TH ANNUAL CHAMBER INSTALLATION BANQUET
DESCRIPTION:TABLE SPONSORSHIP NO LONGER AVAILABLE \nBuy your General Admission Tickets Here \n  \nPurchase Raffle Cards for Alcohol Baskets Here \n 
URL:https://mountainhomechamber.com/event/79th-annual-chamber-installation-banquet/
LOCATION:Elks Lodge\, 325 S 3rd W\, Mountain Home\, Idaho\, 83647
END:VEVENT
END:VCALENDAR