BEGIN:VCALENDAR
VERSION:2.0
PRODID:-//Mountain Home Chamber of Commerce - ECPv6.15.20//NONSGML v1.0//EN
CALSCALE:GREGORIAN
METHOD:PUBLISH
X-ORIGINAL-URL:https://mountainhomechamber.com
X-WR-CALDESC:Events for Mountain Home Chamber of Commerce
REFRESH-INTERVAL;VALUE=DURATION:PT1H
X-Robots-Tag:noindex
X-PUBLISHED-TTL:PT1H
BEGIN:VTIMEZONE
TZID:America/Boise
BEGIN:DAYLIGHT
TZOFFSETFROM:-0700
TZOFFSETTO:-0600
TZNAME:MDT
DTSTART:20220313T090000
END:DAYLIGHT
BEGIN:STANDARD
TZOFFSETFROM:-0600
TZOFFSETTO:-0700
TZNAME:MST
DTSTART:20221106T080000
END:STANDARD
BEGIN:DAYLIGHT
TZOFFSETFROM:-0700
TZOFFSETTO:-0600
TZNAME:MDT
DTSTART:20230312T090000
END:DAYLIGHT
BEGIN:STANDARD
TZOFFSETFROM:-0600
TZOFFSETTO:-0700
TZNAME:MST
DTSTART:20231105T080000
END:STANDARD
BEGIN:DAYLIGHT
TZOFFSETFROM:-0700
TZOFFSETTO:-0600
TZNAME:MDT
DTSTART:20240310T090000
END:DAYLIGHT
BEGIN:STANDARD
TZOFFSETFROM:-0600
TZOFFSETTO:-0700
TZNAME:MST
DTSTART:20241103T080000
END:STANDARD
END:VTIMEZONE
BEGIN:VEVENT
DTSTART;TZID=America/Boise:20231212T170000
DTEND;TZID=America/Boise:20231212T190000
DTSTAMP:20260420T071430
CREATED:20231204T182600Z
LAST-MODIFIED:20231204T182600Z
UID:2242-1702400400-1702407600@mountainhomechamber.com
SUMMARY:CHRISTMAS CHAMBER & MAC SOCIAL 2023
DESCRIPTION:
URL:https://mountainhomechamber.com/event/christmas-chamber-mac-social-2023/
END:VEVENT
BEGIN:VEVENT
DTSTART;TZID=America/Boise:20231214T170000
DTEND;TZID=America/Boise:20231214T190000
DTSTAMP:20260420T071430
CREATED:20231025T172753Z
LAST-MODIFIED:20231025T172753Z
UID:2237-1702573200-1702580400@mountainhomechamber.com
SUMMARY:Chamber After Hours
DESCRIPTION:Details coming soon! \nLocation: \nAnytime Fitness \n2600 American Legion Blvd \nMountain Home\, ID 83647
URL:https://mountainhomechamber.com/event/chamber-after-hours-2/
LOCATION:Anytime Fitness\, 2600 American Legion Blvd\, Mountain Home\, ID\, 83647\, United States
ORGANIZER;CN="Mountain Home Chamber of Commerce":MAILTO:admin@mountainhomechamber.com
END:VEVENT
END:VCALENDAR