BEGIN:VCALENDAR
VERSION:2.0
PRODID:-//Mountain Home Chamber of Commerce - ECPv6.15.20//NONSGML v1.0//EN
CALSCALE:GREGORIAN
METHOD:PUBLISH
X-WR-CALNAME:Mountain Home Chamber of Commerce
X-ORIGINAL-URL:https://mountainhomechamber.com
X-WR-CALDESC:Events for Mountain Home Chamber of Commerce
REFRESH-INTERVAL;VALUE=DURATION:PT1H
X-Robots-Tag:noindex
X-PUBLISHED-TTL:PT1H
BEGIN:VTIMEZONE
TZID:America/Boise
BEGIN:DAYLIGHT
TZOFFSETFROM:-0700
TZOFFSETTO:-0600
TZNAME:MDT
DTSTART:20220313T090000
END:DAYLIGHT
BEGIN:STANDARD
TZOFFSETFROM:-0600
TZOFFSETTO:-0700
TZNAME:MST
DTSTART:20221106T080000
END:STANDARD
BEGIN:DAYLIGHT
TZOFFSETFROM:-0700
TZOFFSETTO:-0600
TZNAME:MDT
DTSTART:20230312T090000
END:DAYLIGHT
BEGIN:STANDARD
TZOFFSETFROM:-0600
TZOFFSETTO:-0700
TZNAME:MST
DTSTART:20231105T080000
END:STANDARD
BEGIN:DAYLIGHT
TZOFFSETFROM:-0700
TZOFFSETTO:-0600
TZNAME:MDT
DTSTART:20240310T090000
END:DAYLIGHT
BEGIN:STANDARD
TZOFFSETFROM:-0600
TZOFFSETTO:-0700
TZNAME:MST
DTSTART:20241103T080000
END:STANDARD
END:VTIMEZONE
BEGIN:VEVENT
DTSTART;TZID=America/Boise:20230818T140000
DTEND;TZID=America/Boise:20230818T143000
DTSTAMP:20260420T125704
CREATED:20230816T201546Z
LAST-MODIFIED:20230816T204325Z
UID:2069-1692367200-1692369000@mountainhomechamber.com
SUMMARY:Ribbon Cutting Ceremony - R&A Creations
DESCRIPTION:
URL:https://mountainhomechamber.com/event/ribbon-cutting-ceremony-ra-creations/
LOCATION:R&A Creations\, 2165 Airbase Rd.\, Mountain Home\, ID\, 83647\, United States
CATEGORIES:Chamber Event,Public Events
ORGANIZER;CN="Mountain Home Chamber of Commerce":MAILTO:admin@mountainhomechamber.com
END:VEVENT
BEGIN:VEVENT
DTSTART;TZID=America/Boise:20230821T120000
DTEND;TZID=America/Boise:20230821T130000
DTSTAMP:20260420T125704
CREATED:20230816T195854Z
LAST-MODIFIED:20230816T195854Z
UID:2057-1692619200-1692622800@mountainhomechamber.com
SUMMARY:Chamber Luncheon
DESCRIPTION:
URL:https://mountainhomechamber.com/event/chamber-luncheon-6/
LOCATION:East Fourth North\, 275 E 4th N\, Mountain Home\, ID\, 83647\, United States
CATEGORIES:Chamber Event,Member Events/Meetings
ORGANIZER;CN="Mountain Home Chamber of Commerce":MAILTO:admin@mountainhomechamber.com
END:VEVENT
BEGIN:VEVENT
DTSTART;TZID=America/Boise:20230821T173000
DTEND;TZID=America/Boise:20230821T180000
DTSTAMP:20260420T125704
CREATED:20230816T201400Z
LAST-MODIFIED:20230816T201400Z
UID:2093-1692639000-1692640800@mountainhomechamber.com
SUMMARY:Ribbon Cutting Ceremony - Gold Tap
DESCRIPTION:
URL:https://mountainhomechamber.com/event/ribbon-cutting-ceremony-gold-tap/
LOCATION:Gold Tap\, 110 N. Main Street\, Mountain Home\, ID\, 83647\, United States
CATEGORIES:Chamber Event,Member Events/Meetings,Public Events
ORGANIZER;CN="Mountain Home Chamber of Commerce":MAILTO:admin@mountainhomechamber.com
END:VEVENT
BEGIN:VEVENT
DTSTART;TZID=America/Boise:20230824T083000
DTEND;TZID=America/Boise:20230824T093000
DTSTAMP:20260420T125704
CREATED:20230816T201245Z
LAST-MODIFIED:20230816T204348Z
UID:2097-1692865800-1692869400@mountainhomechamber.com
SUMMARY:Business 2 Business Committee Meeting
DESCRIPTION:
URL:https://mountainhomechamber.com/event/business-2-business-monthly-meeting/
LOCATION:Savory Layne\, 1130 US-20\, MOUNTAIN HOME\, ID\, 83647
CATEGORIES:Member Events/Meetings
ORGANIZER;CN="Mountain Home Chamber of Commerce":MAILTO:admin@mountainhomechamber.com
END:VEVENT
END:VCALENDAR