BEGIN:VCALENDAR
VERSION:2.0
PRODID:-//Mountain Home Chamber of Commerce - ECPv6.15.20//NONSGML v1.0//EN
CALSCALE:GREGORIAN
METHOD:PUBLISH
X-ORIGINAL-URL:https://mountainhomechamber.com
X-WR-CALDESC:Events for Mountain Home Chamber of Commerce
REFRESH-INTERVAL;VALUE=DURATION:PT1H
X-Robots-Tag:noindex
X-PUBLISHED-TTL:PT1H
BEGIN:VTIMEZONE
TZID:America/Boise
BEGIN:DAYLIGHT
TZOFFSETFROM:-0700
TZOFFSETTO:-0600
TZNAME:MDT
DTSTART:20220313T090000
END:DAYLIGHT
BEGIN:STANDARD
TZOFFSETFROM:-0600
TZOFFSETTO:-0700
TZNAME:MST
DTSTART:20221106T080000
END:STANDARD
BEGIN:DAYLIGHT
TZOFFSETFROM:-0700
TZOFFSETTO:-0600
TZNAME:MDT
DTSTART:20230312T090000
END:DAYLIGHT
BEGIN:STANDARD
TZOFFSETFROM:-0600
TZOFFSETTO:-0700
TZNAME:MST
DTSTART:20231105T080000
END:STANDARD
BEGIN:DAYLIGHT
TZOFFSETFROM:-0700
TZOFFSETTO:-0600
TZNAME:MDT
DTSTART:20240310T090000
END:DAYLIGHT
BEGIN:STANDARD
TZOFFSETFROM:-0600
TZOFFSETTO:-0700
TZNAME:MST
DTSTART:20241103T080000
END:STANDARD
END:VTIMEZONE
BEGIN:VEVENT
DTSTART;TZID=America/Boise:20230610T110000
DTEND;TZID=America/Boise:20230610T160000
DTSTAMP:20260420T161748
CREATED:20230310T175035Z
LAST-MODIFIED:20230310T182010Z
UID:2025-1686394800-1686412800@mountainhomechamber.com
SUMMARY:Crazee Dayz
DESCRIPTION:Crazee Dayz is an annual event hosted by the Mountain Home Chamber of Commerce. The purpose of the event is to promote and encourage economic vitality for Mountain Home and our downtown businesses.\nThis event attracts thousands of consumers throughout the day and the promotion stretches across the state.\nThe program includes vendors\, food trucks\, entertainment\, a car show and carnival.\nPlease consider supporting this event.\nFor more information contact the Chamber office at 208.587.4334.
URL:https://mountainhomechamber.com/event/crazee-dayz-2/
CATEGORIES:Chamber Event,Member Events/Meetings,Public Events
ORGANIZER;CN="Mountain Home Chamber of Commerce":MAILTO:admin@mountainhomechamber.com
END:VEVENT
END:VCALENDAR