BEGIN:VCALENDAR
VERSION:2.0
PRODID:-//Mountain Home Chamber of Commerce - ECPv6.15.20//NONSGML v1.0//EN
CALSCALE:GREGORIAN
METHOD:PUBLISH
X-ORIGINAL-URL:https://mountainhomechamber.com
X-WR-CALDESC:Events for Mountain Home Chamber of Commerce
REFRESH-INTERVAL;VALUE=DURATION:PT1H
X-Robots-Tag:noindex
X-PUBLISHED-TTL:PT1H
BEGIN:VTIMEZONE
TZID:America/Boise
BEGIN:DAYLIGHT
TZOFFSETFROM:-0700
TZOFFSETTO:-0600
TZNAME:MDT
DTSTART:20220313T090000
END:DAYLIGHT
BEGIN:STANDARD
TZOFFSETFROM:-0600
TZOFFSETTO:-0700
TZNAME:MST
DTSTART:20221106T080000
END:STANDARD
BEGIN:DAYLIGHT
TZOFFSETFROM:-0700
TZOFFSETTO:-0600
TZNAME:MDT
DTSTART:20230312T090000
END:DAYLIGHT
BEGIN:STANDARD
TZOFFSETFROM:-0600
TZOFFSETTO:-0700
TZNAME:MST
DTSTART:20231105T080000
END:STANDARD
BEGIN:DAYLIGHT
TZOFFSETFROM:-0700
TZOFFSETTO:-0600
TZNAME:MDT
DTSTART:20240310T090000
END:DAYLIGHT
BEGIN:STANDARD
TZOFFSETFROM:-0600
TZOFFSETTO:-0700
TZNAME:MST
DTSTART:20241103T080000
END:STANDARD
END:VTIMEZONE
BEGIN:VEVENT
DTSTART;TZID=America/Boise:20230525T183000
DTEND;TZID=America/Boise:20230525T203000
DTSTAMP:20260420T175100
CREATED:20230310T174446Z
LAST-MODIFIED:20230310T182110Z
UID:2022-1685039400-1685046600@mountainhomechamber.com
SUMMARY:Art Craft & Wine Stroll
DESCRIPTION:Art\, craft\, wine\, food trucks\, live music\, and local eateries will be at all three of Art\, Craft\, and Wine Stroll events.\nTickets are $15 per person which includes a wine glass and 4 tasting tickets\, extra tasting tickets are available $15 for 4!\nMust be 21 years of age upon purchasing.\nContact the Chamber of Commerce for more information\n#MHARTANDWINE2023
URL:https://mountainhomechamber.com/event/art-craft-wine-stroll/
LOCATION:Carl Miller Park\, American Legion Blvd.\, Mountain Home\, ID\, 83647
CATEGORIES:Chamber Event,Member Events/Meetings,Public Events
ORGANIZER;CN="Mountain Home Chamber of Commerce":MAILTO:admin@mountainhomechamber.com
END:VEVENT
END:VCALENDAR