BEGIN:VCALENDAR
VERSION:2.0
PRODID:-//Mountain Home Chamber of Commerce - ECPv6.15.20//NONSGML v1.0//EN
CALSCALE:GREGORIAN
METHOD:PUBLISH
X-WR-CALNAME:Mountain Home Chamber of Commerce
X-ORIGINAL-URL:https://mountainhomechamber.com
X-WR-CALDESC:Events for Mountain Home Chamber of Commerce
REFRESH-INTERVAL;VALUE=DURATION:PT1H
X-Robots-Tag:noindex
X-PUBLISHED-TTL:PT1H
BEGIN:VTIMEZONE
TZID:America/Boise
BEGIN:DAYLIGHT
TZOFFSETFROM:-0700
TZOFFSETTO:-0600
TZNAME:MDT
DTSTART:20200308T090000
END:DAYLIGHT
BEGIN:STANDARD
TZOFFSETFROM:-0600
TZOFFSETTO:-0700
TZNAME:MST
DTSTART:20201101T080000
END:STANDARD
BEGIN:DAYLIGHT
TZOFFSETFROM:-0700
TZOFFSETTO:-0600
TZNAME:MDT
DTSTART:20210314T090000
END:DAYLIGHT
BEGIN:STANDARD
TZOFFSETFROM:-0600
TZOFFSETTO:-0700
TZNAME:MST
DTSTART:20211107T080000
END:STANDARD
BEGIN:DAYLIGHT
TZOFFSETFROM:-0700
TZOFFSETTO:-0600
TZNAME:MDT
DTSTART:20220313T090000
END:DAYLIGHT
BEGIN:STANDARD
TZOFFSETFROM:-0600
TZOFFSETTO:-0700
TZNAME:MST
DTSTART:20221106T080000
END:STANDARD
END:VTIMEZONE
BEGIN:VEVENT
DTSTART;TZID=America/Boise:20211001T110000
DTEND;TZID=America/Boise:20211001T180000
DTSTAMP:20260422T004013
CREATED:20210922T154619Z
LAST-MODIFIED:20210922T154619Z
UID:1838-1633086000-1633111200@mountainhomechamber.com
SUMMARY:Library Book Sale
DESCRIPTION:The Friends of the Mountain Home Public Library will be having a Book Sale on Friday\, October 1st\, 2021 at the Mountain Home Public Library (790 N. 10th E.). Sale hours will be 11 am to 6 pm Friday. They have around 25 boxes of donated books many of them are Young Adult books. Book prices will be $1 for hardbacks\, 50 cents for paperbacks\, and 25 cents for children’s books. The books for sale include those inside the Commons area of the Library\, on the dark wood shelves that line\nthe edges of the Library and a payment box will be centrally located on the shelves in front of the patio windows. \nThe Friends of the Mountain Home Public Library was founded in 2007 by individuals to enhance the Mountain Home Public Library. They are a volunteer organization that focuses on generating funds to enhance the Library’s activities. Since their inception\, the Friends of the Library has raised nearly $50\,000 in supplemental funding for Library programs. Programs include: Adult Reading Program\, Summer Reading Program\, Read Across America\, the  Teen Reading Program\, the American Girl Tea Party\, the Dangerous Day for Boys\, Interactive MovieNight\, Cyberpunk Murder Mystery\, and Storytime with Santa. \nFor further information contact Peter Humm by calling 208.587.2761.
URL:https://mountainhomechamber.com/event/library-book-sale/
LOCATION:City of Mountain Home Public Library\, 790 N 10th E\, Mountain Home\, Idaho\, 83647
END:VEVENT
BEGIN:VEVENT
DTSTART;TZID=America/Boise:20211005T083000
DTEND;TZID=America/Boise:20211005T093000
DTSTAMP:20260422T004013
CREATED:20210923T204359Z
LAST-MODIFIED:20210923T204359Z
UID:1860-1633422600-1633426200@mountainhomechamber.com
SUMMARY:Chamber Breakfast Connection
DESCRIPTION:The Chamber of Commerce hosts a monthly Breakfast Connection Meeting. This event focuses on specific topics while allowing Chamber Members to network and work through certain industry topics. \nSpeaker: Troy & Linda Larsen\, Engage First Inc.\nTopic: This 3-part series will consist of client relations\, personal development\, and customer service (October-December). \nChamber Member Event – If you are a non-member please contact the Chamber Office to participate.
URL:https://mountainhomechamber.com/event/chamber-breakfast-connection-2/
LOCATION:ETC Coffeehouse
ORGANIZER;CN="Mountain Home Chamber of Commerce":MAILTO:admin@mountainhomechamber.com
END:VEVENT
BEGIN:VEVENT
DTSTART;TZID=America/Boise:20211006T120000
DTEND;TZID=America/Boise:20211006T130000
DTSTAMP:20260422T004013
CREATED:20210923T210106Z
LAST-MODIFIED:20210923T210106Z
UID:1865-1633521600-1633525200@mountainhomechamber.com
SUMMARY:Travel & Tourism Committee Meeting
DESCRIPTION:This monthly Committee Meeting is designed to discuss projects and encourage growth for the travel industry in Elmore County. \nChamber Member Meeting – If you are a non-member please contact the Chamber Office to participate.
URL:https://mountainhomechamber.com/event/travel-tourism-committee-meeting-3/
LOCATION:Mountain Home Chamber of Commerce\, 205 N 3rd E\, Mountain Home\, ID\, 83647\, United States
ORGANIZER;CN="Mountain Home Chamber of Commerce":MAILTO:admin@mountainhomechamber.com
END:VEVENT
BEGIN:VEVENT
DTSTART;TZID=America/Boise:20211018T120000
DTEND;TZID=America/Boise:20211018T130000
DTSTAMP:20260422T004013
CREATED:20210923T210409Z
LAST-MODIFIED:20210923T210409Z
UID:1867-1634558400-1634562000@mountainhomechamber.com
SUMMARY:Chamber Luncheon
DESCRIPTION:The Chamber of Commerce hosts a monthly luncheon. The event highlights key speakers and topics important to Elmore County Business owners while allowing Chamber Members a networking opportunity. \nSpeaker: TBD\nTopic: TBD\nLocation: El Herradaro \nChamber Member Event – If you are a non-member please contact the Chamber Office to participate. \nLunch order is optional and typically ranges from $10-$15.
URL:https://mountainhomechamber.com/event/chamber-luncheon-4/
LOCATION:El Herradero\, 535 N Main St\, Mountain Home\, ID\, 83647
ORGANIZER;CN="Mountain Home Chamber of Commerce":MAILTO:admin@mountainhomechamber.com
END:VEVENT
BEGIN:VEVENT
DTSTART;TZID=America/Boise:20211021T160000
DTEND;TZID=America/Boise:20211021T170000
DTSTAMP:20260422T004013
CREATED:20210923T210636Z
LAST-MODIFIED:20210923T210636Z
UID:1869-1634832000-1634835600@mountainhomechamber.com
SUMMARY:Education-Workforce Development Committee Meeting
DESCRIPTION:This Committee meets monthly to discuss opportunities to collaborate with educational institutions and better our workforce across Elmore County. \nChamber Member Event – If you are a non-member please contact the Chamber Office to participate
URL:https://mountainhomechamber.com/event/education-workforce-development-committee-meeting/
ORGANIZER;CN="Mountain Home Chamber of Commerce":MAILTO:admin@mountainhomechamber.com
END:VEVENT
BEGIN:VEVENT
DTSTART;VALUE=DATE:20211027
DTEND;VALUE=DATE:20211029
DTSTAMP:20260422T004013
CREATED:20211012T231159Z
LAST-MODIFIED:20211012T231159Z
UID:1885-1635292800-1635465599@mountainhomechamber.com
SUMMARY:7 Habits of Highly Effective People Course
DESCRIPTION:Troy and Linda Larsen\, Engage First\, Inc. are introducing FranklinCovey 7 Habits of Highly Effective People course. Single course training – two sessions – are taking place on Oct 27 and Oct 28th at Pioneer Federal Credit Union\, 250 N. 3rd St.  \nClick here for more information or to register: https://business.idahosbdc.org/workshop.aspx?ekey=50410094
URL:https://mountainhomechamber.com/event/7-habits-of-highly-effective-people-course/
LOCATION:Pioneer Community Room\, 250 N. 3rd St.\, MOUNTAIN HOME\, Idaho\, 83647
ORGANIZER;CN="":MAILTO:chamber@mountainhomechamber.com
END:VEVENT
END:VCALENDAR