BEGIN:VCALENDAR
VERSION:2.0
PRODID:-//Mountain Home Chamber of Commerce - ECPv6.15.20//NONSGML v1.0//EN
CALSCALE:GREGORIAN
METHOD:PUBLISH
X-ORIGINAL-URL:https://mountainhomechamber.com
X-WR-CALDESC:Events for Mountain Home Chamber of Commerce
REFRESH-INTERVAL;VALUE=DURATION:PT1H
X-Robots-Tag:noindex
X-PUBLISHED-TTL:PT1H
BEGIN:VTIMEZONE
TZID:America/Boise
BEGIN:DAYLIGHT
TZOFFSETFROM:-0700
TZOFFSETTO:-0600
TZNAME:MDT
DTSTART:20200308T090000
END:DAYLIGHT
BEGIN:STANDARD
TZOFFSETFROM:-0600
TZOFFSETTO:-0700
TZNAME:MST
DTSTART:20201101T080000
END:STANDARD
BEGIN:DAYLIGHT
TZOFFSETFROM:-0700
TZOFFSETTO:-0600
TZNAME:MDT
DTSTART:20210314T090000
END:DAYLIGHT
BEGIN:STANDARD
TZOFFSETFROM:-0600
TZOFFSETTO:-0700
TZNAME:MST
DTSTART:20211107T080000
END:STANDARD
BEGIN:DAYLIGHT
TZOFFSETFROM:-0700
TZOFFSETTO:-0600
TZNAME:MDT
DTSTART:20220313T090000
END:DAYLIGHT
BEGIN:STANDARD
TZOFFSETFROM:-0600
TZOFFSETTO:-0700
TZNAME:MST
DTSTART:20221106T080000
END:STANDARD
END:VTIMEZONE
BEGIN:VEVENT
DTSTART;TZID=America/Boise:20210512T120000
DTEND;TZID=America/Boise:20210512T123000
DTSTAMP:20260422T080547
CREATED:20210507T201541Z
LAST-MODIFIED:20210507T201541Z
UID:1730-1620820800-1620822600@mountainhomechamber.com
SUMMARY:Ribbon Cutting - Idaho Gem Group
DESCRIPTION:Join the Mountain Home Chamber of Commerce in celebrating the opening of the Idaho Gem Group. The Chamber of Commerce will be hosting a ribbon-cutting ceremony on May 12th\, 2021 at 12:00pm. Idaho Gem Group is located at 220 American Legion Blvd. in Mountain Home\, Idaho.
URL:https://mountainhomechamber.com/event/ribbon-cutting-idaho-gem-group/
LOCATION:Idaho Gem Group\, 220 American Legion\, Mountain Home\, ID\, 83647
CATEGORIES:Chamber Event,Member Events/Meetings,Public Events
ATTACH;FMTTYPE=image/png:https://mountainhomechamber.com/wp-content/uploads/2021/05/Idaho-Gem-Group-R-C-5.2021-1.png
ORGANIZER;CN="Mountain Home Chamber of Commerce":MAILTO:admin@mountainhomechamber.com
END:VEVENT
BEGIN:VEVENT
DTSTART;TZID=America/Boise:20210514T133000
DTEND;TZID=America/Boise:20210514T143000
DTSTAMP:20260422T080547
CREATED:20210507T204533Z
LAST-MODIFIED:20210507T204533Z
UID:1734-1620999000-1621002600@mountainhomechamber.com
SUMMARY:Mountain Home Adult Training Academy - Opening Ceremony
DESCRIPTION:
URL:https://mountainhomechamber.com/event/mountain-home-adult-training-academy-opening-ceremony/
LOCATION:170 N Main Street\, 170 N Main Street\, Mountain Home\, ID\, 83647
CATEGORIES:Chamber Event,Member Events/Meetings,Public Events
ATTACH;FMTTYPE=image/png:https://mountainhomechamber.com/wp-content/uploads/2021/05/Screen-Shot-2021-05-04-at-12.05.38-PM.png
ORGANIZER;CN="Mountain Home Chamber of Commerce":MAILTO:admin@mountainhomechamber.com
END:VEVENT
BEGIN:VEVENT
DTSTART;TZID=America/Boise:20210517T120000
DTEND;TZID=America/Boise:20210517T130000
DTSTAMP:20260422T080547
CREATED:20210507T211440Z
LAST-MODIFIED:20210507T211440Z
UID:1740-1621252800-1621256400@mountainhomechamber.com
SUMMARY:Chamber Luncheon
DESCRIPTION:The Chamber of Commerce hosts and monthly luncheon. The event highlights key speakers and topics important to Elmore County Business owners while allowing Chamber Members a networking opportunity. \nSpeaker: State Representative Matt Bundy\nTopic: Legislative development and an overview of the House bills \nChamber Member Event – If you are a non-member please contact the Chamber Office to participate. \nLunch order is optional and typically ranges from $10-$15. \n\n\n\nRSVP REQUIRED: https://docs.google.com/forms/d/e/1FAIpQLScSxdeGn72UryEJNTebLkwNzoEx38axBnJ7M_Fo2lqCLu-QUA/viewform\n\nDue to Covid-19 precautions\, we strongly encourage mask wear and social-distancing when possible.
URL:https://mountainhomechamber.com/event/chamber-luncheon-2/
LOCATION:El Herradero\, 535 N Main St\, Mountain Home\, ID\, 83647
CATEGORIES:Chamber Event,Member Events/Meetings,Public Events
ORGANIZER;CN="Mountain Home Chamber of Commerce":MAILTO:admin@mountainhomechamber.com
END:VEVENT
BEGIN:VEVENT
DTSTART;TZID=America/Boise:20210520T160000
DTEND;TZID=America/Boise:20210520T170000
DTSTAMP:20260422T080547
CREATED:20210507T211926Z
LAST-MODIFIED:20210507T211926Z
UID:1743-1621526400-1621530000@mountainhomechamber.com
SUMMARY:Education-Workforce Committee Meeting
DESCRIPTION:This Committee meets monthly to discuss opportunities to collaborate with educational institutions and better our workforce across Elmore County. \nChamber Member Event – If you are a non-member please contact the Chamber Office to participate.
URL:https://mountainhomechamber.com/event/education-workforce-committee-meeting/
LOCATION:City of Mountain Home Public Library\, 790 N 10th E\, Mountain Home\, Idaho\, 83647
CATEGORIES:Chamber Event,Member Events/Meetings,Public Events
ORGANIZER;CN="Mountain Home Chamber of Commerce":MAILTO:admin@mountainhomechamber.com
END:VEVENT
BEGIN:VEVENT
DTSTART;TZID=America/Boise:20210529T110000
DTEND;TZID=America/Boise:20210529T170000
DTSTAMP:20260422T080547
CREATED:20210305T204735Z
LAST-MODIFIED:20210430T211640Z
UID:1644-1622286000-1622307600@mountainhomechamber.com
SUMMARY:Crazee Dayz
DESCRIPTION:Date: May 29\, 2021 \nTime: 11:00am – 5:00pm \nLocation: Downtown Mountain Home \nCrazee Dayz is an annual event hosted by the Mountain Home Chamber of Commerce. The purpose of the event is to promote and encourage economic vitality for Mountain Home and our downtown businesses. \nThe event is promoted throughout the State and attracts thousands of consumers throughout the day. The program includes vendors\, a food truck rally\, entertainment\, children’s activities\, and a car show. \nNow accepting applications for vendors and car show entries. \nIf you are interested in becoming a sponsor\, please contact the Mountain Chamber of Commerce office\, 208.587.4334 or chamber@mountainhomechamber.com.
URL:https://mountainhomechamber.com/event/crazee-dayz/
END:VEVENT
END:VCALENDAR