BEGIN:VCALENDAR
VERSION:2.0
PRODID:-//Mountain Home Chamber of Commerce - ECPv6.15.20//NONSGML v1.0//EN
CALSCALE:GREGORIAN
METHOD:PUBLISH
X-ORIGINAL-URL:https://mountainhomechamber.com
X-WR-CALDESC:Events for Mountain Home Chamber of Commerce
REFRESH-INTERVAL;VALUE=DURATION:PT1H
X-Robots-Tag:noindex
X-PUBLISHED-TTL:PT1H
BEGIN:VTIMEZONE
TZID:America/Boise
BEGIN:DAYLIGHT
TZOFFSETFROM:-0700
TZOFFSETTO:-0600
TZNAME:MDT
DTSTART:20200308T090000
END:DAYLIGHT
BEGIN:STANDARD
TZOFFSETFROM:-0600
TZOFFSETTO:-0700
TZNAME:MST
DTSTART:20201101T080000
END:STANDARD
BEGIN:DAYLIGHT
TZOFFSETFROM:-0700
TZOFFSETTO:-0600
TZNAME:MDT
DTSTART:20210314T090000
END:DAYLIGHT
BEGIN:STANDARD
TZOFFSETFROM:-0600
TZOFFSETTO:-0700
TZNAME:MST
DTSTART:20211107T080000
END:STANDARD
BEGIN:DAYLIGHT
TZOFFSETFROM:-0700
TZOFFSETTO:-0600
TZNAME:MDT
DTSTART:20220313T090000
END:DAYLIGHT
BEGIN:STANDARD
TZOFFSETFROM:-0600
TZOFFSETTO:-0700
TZNAME:MST
DTSTART:20221106T080000
END:STANDARD
END:VTIMEZONE
BEGIN:VEVENT
DTSTART;VALUE=DATE:20210419
DTEND;VALUE=DATE:20210420
DTSTAMP:20260422T093403
CREATED:20210416T202107Z
LAST-MODIFIED:20210416T202133Z
UID:1679-1618790400-1618876799@mountainhomechamber.com
SUMMARY:Chamber Luncheon - Postponed
DESCRIPTION:April Luncheon has been postponed. \nFor more information\, please call the Chamber Office at 208.587.4334.
URL:https://mountainhomechamber.com/event/chamber-luncheon-postponed/
END:VEVENT
BEGIN:VEVENT
DTSTART;TZID=America/Boise:20210422T083000
DTEND;TZID=America/Boise:20210422T093000
DTSTAMP:20260422T093403
CREATED:20210416T205315Z
LAST-MODIFIED:20210416T205315Z
UID:1682-1619080200-1619083800@mountainhomechamber.com
SUMMARY:Business to Business Committee Meeting
DESCRIPTION:This monthly Committee Meeting is designed to discuss projects and contribute to the Chamber membership. This committee helps plan networking events and logistics for the monthly breakfasts and luncheons. \nChamber Member Meeting – If you are a non-member please contact the Chamber Office to participate.
URL:https://mountainhomechamber.com/event/business-to-business-committee-meeting-3/
LOCATION:Mountain Home Chamber of Commerce\, 205 N 3rd E\, Mountain Home\, ID\, 83647\, United States
CATEGORIES:Member Events/Meetings
ORGANIZER;CN="Mountain Home Chamber of Commerce":MAILTO:admin@mountainhomechamber.com
END:VEVENT
BEGIN:VEVENT
DTSTART;TZID=America/Boise:20210423T110000
DTEND;TZID=America/Boise:20210423T150000
DTSTAMP:20260422T093403
CREATED:20210420T184310Z
LAST-MODIFIED:20210420T184310Z
UID:1694-1619175600-1619190000@mountainhomechamber.com
SUMMARY:Desert Mountain Visitors Center Sale Day
DESCRIPTION:The Desert Mountain Visitors Center is making room for new summer items! They will be having a blowout sale on all items – up to 50% off. \nThe sale will be held on April 23rd from 11am-3pm at 2900 American Legion Blvd. in Mountain Home. \nThe El Herradero food truck will be on-site! \nFor more information contact Desert Mountain Visitors Center at 208.587.4464.
URL:https://mountainhomechamber.com/event/desert-mountain-visitors-center-sale-day/
LOCATION:Desert Mountain Visitors Center\, 2900 American Legion Blvd\, Mountain Home\, ID\, 83647\, United States
CATEGORIES:Public Events
ATTACH;FMTTYPE=image/png:https://mountainhomechamber.com/wp-content/uploads/2021/04/DMVC-Sale-4.23.2021-1.png
ORGANIZER;CN="Mountain Home Chamber of Commerce":MAILTO:admin@mountainhomechamber.com
END:VEVENT
BEGIN:VEVENT
DTSTART;TZID=America/Boise:20210428T120000
DTEND;TZID=America/Boise:20210428T130000
DTSTAMP:20260422T093403
CREATED:20210416T212447Z
LAST-MODIFIED:20210416T212914Z
UID:1684-1619611200-1619614800@mountainhomechamber.com
SUMMARY:Military Affairs Luncheon
DESCRIPTION:The Chamber of Commerce Military Affairs Committee hosts a monthly luncheon. The event highlights key roles and topics related to the installation and of interest to Elmore County Business. \nSpeaker: TBD\nTopic: TBD \nMAC Member Event – If you are a non-member please contact the Chamber Office to participate. \nLunch order is optional and typically ranges from $10-$15. \n\n\n\nRSVP REQUIRED.\n\nDue to Covid-19 precautions\, we strongly encourage mask wear and social-distancing when possible.
URL:https://mountainhomechamber.com/event/military-affairs-luncheon-2/
LOCATION:AJ’s Restaurant\, 1130 US-20\, Mountain Home\, Idaho
CATEGORIES:Member Events/Meetings
ORGANIZER;CN="Mountain Home Chamber of Commerce":MAILTO:admin@mountainhomechamber.com
END:VEVENT
END:VCALENDAR