BEGIN:VCALENDAR
VERSION:2.0
PRODID:-//Mountain Home Chamber of Commerce - ECPv6.15.20//NONSGML v1.0//EN
CALSCALE:GREGORIAN
METHOD:PUBLISH
X-ORIGINAL-URL:https://mountainhomechamber.com
X-WR-CALDESC:Events for Mountain Home Chamber of Commerce
REFRESH-INTERVAL;VALUE=DURATION:PT1H
X-Robots-Tag:noindex
X-PUBLISHED-TTL:PT1H
BEGIN:VTIMEZONE
TZID:America/Boise
BEGIN:DAYLIGHT
TZOFFSETFROM:-0700
TZOFFSETTO:-0600
TZNAME:MDT
DTSTART:20200308T090000
END:DAYLIGHT
BEGIN:STANDARD
TZOFFSETFROM:-0600
TZOFFSETTO:-0700
TZNAME:MST
DTSTART:20201101T080000
END:STANDARD
BEGIN:DAYLIGHT
TZOFFSETFROM:-0700
TZOFFSETTO:-0600
TZNAME:MDT
DTSTART:20210314T090000
END:DAYLIGHT
BEGIN:STANDARD
TZOFFSETFROM:-0600
TZOFFSETTO:-0700
TZNAME:MST
DTSTART:20211107T080000
END:STANDARD
BEGIN:DAYLIGHT
TZOFFSETFROM:-0700
TZOFFSETTO:-0600
TZNAME:MDT
DTSTART:20220313T090000
END:DAYLIGHT
BEGIN:STANDARD
TZOFFSETFROM:-0600
TZOFFSETTO:-0700
TZNAME:MST
DTSTART:20221106T080000
END:STANDARD
END:VTIMEZONE
BEGIN:VEVENT
DTSTART;TZID=America/Boise:20210302T083000
DTEND;TZID=America/Boise:20210302T093000
DTSTAMP:20260422T105942
CREATED:20210226T210809Z
LAST-MODIFIED:20210226T210929Z
UID:1619-1614673800-1614677400@mountainhomechamber.com
SUMMARY:Breakfast Connection - "Digital Experience for the Customer"
DESCRIPTION:The Chamber of Commerce hosts and monthly Breakfast Connection Meeting. The event focuses on specific topics while allowing Chamber Members to network and work through certain industry topics. \nSpeaker: Candice Ellington\, Ellington Digital\nTopic: The do’s and don’ts on marketing – highlighting your customer’s journey through their digital experience. \nChamber Member Event – If you are a non-member please contact the Chamber Office to participate. \nThis event will be held via Zoom: \nhttps://us02web.zoom.us/j/8972588541?pwd=L3Z4K3l0V2c0MElmMUpuL2lhaml5dz09 \nMeeting ID: 897 258 8541\nPasscode: 712018\nOne tap mobile\n+12532158782\,\,8972588541#\,\,\,\,*712018# US (Tacoma)\n+13462487799\,\,8972588541#\,\,\,\,*712018# US (Houston)
URL:https://mountainhomechamber.com/event/breakfast-connection-digital-experience-for-the-customer/
LOCATION:Virtual
CATEGORIES:Chamber Event
ORGANIZER;CN="Mountain Home Chamber of Commerce":MAILTO:admin@mountainhomechamber.com
END:VEVENT
BEGIN:VEVENT
DTSTART;TZID=America/Boise:20210303T120000
DTEND;TZID=America/Boise:20210303T130000
DTSTAMP:20260422T105942
CREATED:20210226T211535Z
LAST-MODIFIED:20210226T211535Z
UID:1621-1614772800-1614776400@mountainhomechamber.com
SUMMARY:Travel & Tourism Committee Meeting
DESCRIPTION:This monthly Committee Meeting is designed to discuss projects and encourage growth for the travel industry in Elmore County. \nChamber Member Meeting – If you are a non-member please contact the Chamber Office to participate. \nThis meeting will be held in person. If you need to attend the meeting virtually\, see the information below: \nhttps://us02web.zoom.us/j/8972588541?pwd=L3Z4K3l0V2c0MElmMUpuL2lhaml5dz09 \nMeeting ID: 897 258 8541\nPasscode: 712018\nOne tap mobile\n+12532158782\,\,8972588541#\,\,\,\,*712018# US (Tacoma)\n+13462487799\,\,8972588541#\,\,\,\,*712018# US (Houston)
URL:https://mountainhomechamber.com/event/travel-tourism-committee-meeting/
LOCATION:Mountain Home Chamber of Commerce\, 205 N 3rd E\, Mountain Home\, ID\, 83647\, United States
CATEGORIES:Chamber Event
ORGANIZER;CN="Mountain Home Chamber of Commerce":MAILTO:admin@mountainhomechamber.com
END:VEVENT
BEGIN:VEVENT
DTSTART;TZID=America/Boise:20210311T090000
DTEND;TZID=America/Boise:20210311T100000
DTSTAMP:20260422T105942
CREATED:20210226T211942Z
LAST-MODIFIED:20210226T211942Z
UID:1624-1615453200-1615456800@mountainhomechamber.com
SUMMARY:Education - Workforce Development Meeting
DESCRIPTION:This Committee meets monthly to discuss opportunities to collaborate with educational institutions and better our workforce across Elmore County. \nChamber Member Event – If you are a non-member please contact the Chamber Office to participate. \nThis meeting will be held in person. If you must attend via Zoom\, see the information below: \nhttps://us02web.zoom.us/j/8972588541?pwd=L3Z4K3l0V2c0MElmMUpuL2lhaml5dz09 \nMeeting ID: 897 258 8541\nPasscode: 712018\nOne tap mobile\n+12532158782\,\,8972588541#\,\,\,\,*712018# US (Tacoma)\n+13462487799\,\,8972588541#\,\,\,\,*712018# US (Houston)
URL:https://mountainhomechamber.com/event/education-workforce-development-meeting-2/
LOCATION:AJ’s Restaurant\, 1130 US-20\, Mountain Home\, Idaho
CATEGORIES:Chamber Event,Member Events/Meetings
ORGANIZER;CN="Mountain Home Chamber of Commerce":MAILTO:admin@mountainhomechamber.com
END:VEVENT
BEGIN:VEVENT
DTSTART;TZID=America/Boise:20210315T120000
DTEND;TZID=America/Boise:20210315T130000
DTSTAMP:20260422T105942
CREATED:20210226T213233Z
LAST-MODIFIED:20210312T230225Z
UID:1627-1615809600-1615813200@mountainhomechamber.com
SUMMARY:Chamber Luncheon
DESCRIPTION:The Chamber of Commerce hosts and monthly luncheon. The event highlights key speakers and topics important to Elmore County Business owners while allowing Chamber Members a networking opportunity. \nSpeaker: Mayor Rich Sykes\, City of Mountain Home\nTopic: State of the City Address \nChamber Member Event – If you are a non-member please contact the Chamber Office to participate. \nLunch order is optional and typically ranges from $10-$15. \n\n\n\nRSVP REQUIRED: https://docs.google.com/forms/d/e/1FAIpQLScSxdeGn72UryEJNTebLkwNzoEx38axBnJ7M_Fo2lqCLu-QUA/viewform\n\nDue to Covid-19 precautions\, we strongly encourage mask wear and social-distancing when possible.
URL:https://mountainhomechamber.com/event/chamber-luncheon/
LOCATION:Smoky Mountain Pizza\, 1465 American Legion Blvd\, Mountain Home\, Idaho
CATEGORIES:Chamber Event,Member Events/Meetings
ORGANIZER;CN="Mountain Home Chamber of Commerce":MAILTO:admin@mountainhomechamber.com
END:VEVENT
BEGIN:VEVENT
DTSTART;VALUE=DATE:20210320
DTEND;VALUE=DATE:20210322
DTSTAMP:20260422T105942
CREATED:20210226T215850Z
LAST-MODIFIED:20210226T215850Z
UID:1636-1616198400-1616371199@mountainhomechamber.com
SUMMARY:Elmore County Sports & Gun Show
DESCRIPTION:
URL:https://mountainhomechamber.com/event/elmore-county-sports-gun-show/
LOCATION:Elmore County Fairgrounds\, Glenn's Ferry\, Idaho
CATEGORIES:Public Events
END:VEVENT
BEGIN:VEVENT
DTSTART;TZID=America/Boise:20210324T120000
DTEND;TZID=America/Boise:20210324T130000
DTSTAMP:20260422T105942
CREATED:20210226T214923Z
LAST-MODIFIED:20210226T214923Z
UID:1632-1616587200-1616590800@mountainhomechamber.com
SUMMARY:Military Affairs Luncheon
DESCRIPTION:The Chamber of Commerce Military Affairs Committee hosts a monthly luncheon. The event highlights key roles and topics related to the installation and of interest to Elmore County Business. \nSpeaker: TBD\nTopic: TBD \nMAC Member Event – If you are a non-member please contact the Chamber Office to participate. \nLunch order is optional and typically ranges from $10-$15. \n\n\n\nRSVP REQUIRED.\n\nDue to Covid-19 precautions\, we strongly encourage mask wear and social-distancing when possible.
URL:https://mountainhomechamber.com/event/military-affairs-luncheon/
CATEGORIES:Chamber Event,Member Events/Meetings
ORGANIZER;CN="Mountain Home Chamber of Commerce":MAILTO:admin@mountainhomechamber.com
END:VEVENT
BEGIN:VEVENT
DTSTART;TZID=America/Boise:20210325T083000
DTEND;TZID=America/Boise:20210325T093000
DTSTAMP:20260422T105942
CREATED:20210226T215209Z
LAST-MODIFIED:20210226T215459Z
UID:1634-1616661000-1616664600@mountainhomechamber.com
SUMMARY:Business to Business Committee Meeting
DESCRIPTION:This monthly Committee Meeting is designed to discuss projects and contribute to the Chamber membership. This committee helps plan networking events and logistics for the monthly breakfasts and luncheons. \nChamber Member Meeting – If you are a non-member please contact the Chamber Office to participate. \nThis meeting will be held in person. If you need to attend the meeting virtually\, see the information below: \nhttps://us02web.zoom.us/j/8972588541?pwd=L3Z4K3l0V2c0MElmMUpuL2lhaml5dz09 \nMeeting ID: 897 258 8541\nPasscode: 712018\nOne tap mobile\n+12532158782\,\,8972588541#\,\,\,\,*712018# US (Tacoma)\n+13462487799\,\,8972588541#\,\,\,\,*712018# US (Houston)
URL:https://mountainhomechamber.com/event/business-to-business-committee-meeting-2/
LOCATION:Mountain Home Chamber of Commerce\, 205 N 3rd E\, Mountain Home\, ID\, 83647\, United States
CATEGORIES:Chamber Event,Member Events/Meetings
ORGANIZER;CN="Mountain Home Chamber of Commerce":MAILTO:admin@mountainhomechamber.com
END:VEVENT
END:VCALENDAR