BEGIN:VCALENDAR
VERSION:2.0
PRODID:-//Mountain Home Chamber of Commerce - ECPv6.15.20//NONSGML v1.0//EN
CALSCALE:GREGORIAN
METHOD:PUBLISH
X-WR-CALNAME:Mountain Home Chamber of Commerce
X-ORIGINAL-URL:https://mountainhomechamber.com
X-WR-CALDESC:Events for Mountain Home Chamber of Commerce
REFRESH-INTERVAL;VALUE=DURATION:PT1H
X-Robots-Tag:noindex
X-PUBLISHED-TTL:PT1H
BEGIN:VTIMEZONE
TZID:America/Boise
BEGIN:DAYLIGHT
TZOFFSETFROM:-0700
TZOFFSETTO:-0600
TZNAME:MDT
DTSTART:20200308T090000
END:DAYLIGHT
BEGIN:STANDARD
TZOFFSETFROM:-0600
TZOFFSETTO:-0700
TZNAME:MST
DTSTART:20201101T080000
END:STANDARD
BEGIN:DAYLIGHT
TZOFFSETFROM:-0700
TZOFFSETTO:-0600
TZNAME:MDT
DTSTART:20210314T090000
END:DAYLIGHT
BEGIN:STANDARD
TZOFFSETFROM:-0600
TZOFFSETTO:-0700
TZNAME:MST
DTSTART:20211107T080000
END:STANDARD
BEGIN:DAYLIGHT
TZOFFSETFROM:-0700
TZOFFSETTO:-0600
TZNAME:MDT
DTSTART:20220313T090000
END:DAYLIGHT
BEGIN:STANDARD
TZOFFSETFROM:-0600
TZOFFSETTO:-0700
TZNAME:MST
DTSTART:20221106T080000
END:STANDARD
END:VTIMEZONE
BEGIN:VEVENT
DTSTART;VALUE=DATE:20210118
DTEND;VALUE=DATE:20210119
DTSTAMP:20260422T134131
CREATED:20210115T194317Z
LAST-MODIFIED:20210115T200547Z
UID:1544-1610928000-1611014399@mountainhomechamber.com
SUMMARY:Chamber Office Closed
DESCRIPTION:Chamber Office Closed in observance of Martin Luther King Day.
URL:https://mountainhomechamber.com/event/chamber-office-closed/
END:VEVENT
BEGIN:VEVENT
DTSTART;TZID=America/Boise:20210119T120000
DTEND;TZID=America/Boise:20210119T130000
DTSTAMP:20260422T134131
CREATED:20210115T195215Z
LAST-MODIFIED:20210115T195215Z
UID:1546-1611057600-1611061200@mountainhomechamber.com
SUMMARY:Chamber Luncheon "Porter House LLC"
DESCRIPTION:Join us for a Chamber of Commerce Luncheon with David Porter\, President of Porter House Inc. Porter House strongly believes that building a network of business relationships and diversity makes each one of us grow. Porter House programs can range from leadership to trade positions\, learn how Porter House is servicing Elmore County.\n \nChamber Member Event – If you are a non-member please contact the Chamber Office to participate. \nThis event will be held via Zoom: \nhttps://us02web.zoom.us/j/8972588541?pwd=L3Z4K3l0V2c0MElmMUpuL2lhaml5dz09 \nMeeting ID: 897 258 8541\nPasscode: 712018\nOne tap mobile\n+12532158782\,\,8972588541#\,\,\,\,*712018# US (Tacoma)\n+13462487799\,\,8972588541#\,\,\,\,*712018# US (Houston)
URL:https://mountainhomechamber.com/event/chamber-luncheon-porter-house-llc/
CATEGORIES:Member Events/Meetings
ORGANIZER;CN="Mountain Home Chamber of Commerce":MAILTO:admin@mountainhomechamber.com
END:VEVENT
BEGIN:VEVENT
DTSTART;TZID=America/Boise:20210127T120000
DTEND;TZID=America/Boise:20210127T130000
DTSTAMP:20260422T134131
CREATED:20210115T200222Z
LAST-MODIFIED:20210115T200222Z
UID:1552-1611748800-1611752400@mountainhomechamber.com
SUMMARY:Military Affairs Committee Luncheon
DESCRIPTION:Senior Airman Chloe Serafin\, 726th Air Control Squadron\, will speak about her career and recent deployment experience.\n \nThis meeting will be held virtually: \nhttps://us02web.zoom.us/j/8972588541?pwd=L3Z4K3l0V2c0MElmMUpuL2lhaml5dz09 \nMeeting ID: 897 258 8541\nPasscode: 712018\nOne tap mobile\n+12532158782\,\,8972588541#\,\,\,\,*712018# US (Tacoma)\n+13462487799\,\,8972588541#\,\,\,\,*712018# US (Houston) \nThis event is for Military Affairs Committee Members only. For more information\, contact the Chamber Office at 208.587.4334. \n  \n 
URL:https://mountainhomechamber.com/event/military-affairs-committee-luncheon/
CATEGORIES:Member Events/Meetings
ORGANIZER;CN="Mountain Home Chamber of Commerce":MAILTO:admin@mountainhomechamber.com
END:VEVENT
BEGIN:VEVENT
DTSTART;TZID=America/Boise:20210128T083000
DTEND;TZID=America/Boise:20210128T093000
DTSTAMP:20260422T134131
CREATED:20210115T195556Z
LAST-MODIFIED:20210122T192546Z
UID:1550-1611822600-1611826200@mountainhomechamber.com
SUMMARY:Business to Business Committee Meeting
DESCRIPTION:The Chamber Business to Business Committee Meeting will be meeting virtually until further notice. \nhttps://us02web.zoom.us/j/8972588541?pwd=L3Z4K3l0V2c0MElmMUpuL2lhaml5dz09 \nMeeting ID: 897 258 8541\nPasscode: 712018\nOne tap mobile\n+12532158782\,\,8972588541#\,\,\,\,*712018# US (Tacoma)\n+13462487799\,\,8972588541#\,\,\,\,*712018# US (Houston) \nThis meeting is for Chamber Members only. For more information\, contact the Chamber Office at 208.587.4334.
URL:https://mountainhomechamber.com/event/business-to-business-committee-meeting/
CATEGORIES:Member Events/Meetings
ORGANIZER;CN="Mountain Home Chamber of Commerce":MAILTO:admin@mountainhomechamber.com
END:VEVENT
END:VCALENDAR