BEGIN:VCALENDAR
VERSION:2.0
PRODID:-//Mountain Home Chamber of Commerce - ECPv6.15.20//NONSGML v1.0//EN
CALSCALE:GREGORIAN
METHOD:PUBLISH
X-ORIGINAL-URL:https://mountainhomechamber.com
X-WR-CALDESC:Events for Mountain Home Chamber of Commerce
REFRESH-INTERVAL;VALUE=DURATION:PT1H
X-Robots-Tag:noindex
X-PUBLISHED-TTL:PT1H
BEGIN:VTIMEZONE
TZID:America/Boise
BEGIN:DAYLIGHT
TZOFFSETFROM:-0700
TZOFFSETTO:-0600
TZNAME:MDT
DTSTART:20220313T090000
END:DAYLIGHT
BEGIN:STANDARD
TZOFFSETFROM:-0600
TZOFFSETTO:-0700
TZNAME:MST
DTSTART:20221106T080000
END:STANDARD
BEGIN:DAYLIGHT
TZOFFSETFROM:-0700
TZOFFSETTO:-0600
TZNAME:MDT
DTSTART:20230312T090000
END:DAYLIGHT
BEGIN:STANDARD
TZOFFSETFROM:-0600
TZOFFSETTO:-0700
TZNAME:MST
DTSTART:20231105T080000
END:STANDARD
BEGIN:DAYLIGHT
TZOFFSETFROM:-0700
TZOFFSETTO:-0600
TZNAME:MDT
DTSTART:20240310T090000
END:DAYLIGHT
BEGIN:STANDARD
TZOFFSETFROM:-0600
TZOFFSETTO:-0700
TZNAME:MST
DTSTART:20241103T080000
END:STANDARD
END:VTIMEZONE
BEGIN:VEVENT
DTSTART;TZID=America/Boise:20231104T090000
DTEND;TZID=America/Boise:20231104T140000
DTSTAMP:20260422T064417
CREATED:20230816T202355Z
LAST-MODIFIED:20230816T202712Z
UID:2114-1699088400-1699106400@mountainhomechamber.com
SUMMARY:Rakeup Mountain Home
DESCRIPTION:Rake Up Mountain Home will be Saturday\, November 4th\, 2023. Teams start raking that morning at 9 am. We accept team applications from anyone in the community that wants to volunteer their time. Leaf bags are supplied for all teams and donated by A to Z Lumber. Teams must supply their own rakes. As far as homeowner applications\, this is an event to help our elderly and/or disabled community members with raking their yards. To qualify\, they must be at least 65 years old or disabled\, live in Mountain Home\, and reside at the stated residence they file an application for. Raking takes place only on the one day specified. Homeowners cannot ask for certain days. If the weather is really bad then teams will reschedule for the next day or a day during the following week but that has only happened to us once. \nTeam applications and homeowner applications will be available October 1st and are available on our Pioneer website\, the Chamber office and the Library. \n \nSpearheaded by Pioneer Federal Credit Union\, the Chamber of Commerce serves as an application pick-up and drop-off location.These coordinated efforts focus on helping elderly and disabled homeowners with yard cleanup. \nFor more information follow the Mountain Home Chamber Facebook page. \n 
URL:https://mountainhomechamber.com/event/rakeup-mountain-home-2/
LOCATION:Idaho
CATEGORIES:Chamber Event,Public Events
ATTACH;FMTTYPE=application/pdf:https://mountainhomechamber.com/wp-content/uploads/2023/10/Rake-Up-Mountain-Home_Flyer2023-2.pdf
ORGANIZER;CN="Mountain Home Chamber of Commerce":MAILTO:admin@mountainhomechamber.com
END:VEVENT
BEGIN:VEVENT
DTSTART;VALUE=DATE:20231125
DTEND;VALUE=DATE:20231126
DTSTAMP:20260422T064417
CREATED:20230816T202216Z
LAST-MODIFIED:20230816T202821Z
UID:2112-1700870400-1700956799@mountainhomechamber.com
SUMMARY:Buy Local Saturday
DESCRIPTION:Details coming soon!
URL:https://mountainhomechamber.com/event/shop-small-saturday/
LOCATION:Idaho
CATEGORIES:Chamber Event,Member Events/Meetings,Public Events
ATTACH;FMTTYPE=image/png:https://mountainhomechamber.com/wp-content/uploads/2023/10/Buy-Local-2023-General.png
ORGANIZER;CN="Mountain Home Chamber of Commerce":MAILTO:admin@mountainhomechamber.com
END:VEVENT
END:VCALENDAR