BEGIN:VCALENDAR
VERSION:2.0
PRODID:-//Mountain Home Chamber of Commerce - ECPv6.15.20//NONSGML v1.0//EN
CALSCALE:GREGORIAN
METHOD:PUBLISH
X-ORIGINAL-URL:https://mountainhomechamber.com
X-WR-CALDESC:Events for Mountain Home Chamber of Commerce
REFRESH-INTERVAL;VALUE=DURATION:PT1H
X-Robots-Tag:noindex
X-PUBLISHED-TTL:PT1H
BEGIN:VTIMEZONE
TZID:America/Boise
BEGIN:DAYLIGHT
TZOFFSETFROM:-0700
TZOFFSETTO:-0600
TZNAME:MDT
DTSTART:20220313T090000
END:DAYLIGHT
BEGIN:STANDARD
TZOFFSETFROM:-0600
TZOFFSETTO:-0700
TZNAME:MST
DTSTART:20221106T080000
END:STANDARD
BEGIN:DAYLIGHT
TZOFFSETFROM:-0700
TZOFFSETTO:-0600
TZNAME:MDT
DTSTART:20230312T090000
END:DAYLIGHT
BEGIN:STANDARD
TZOFFSETFROM:-0600
TZOFFSETTO:-0700
TZNAME:MST
DTSTART:20231105T080000
END:STANDARD
BEGIN:DAYLIGHT
TZOFFSETFROM:-0700
TZOFFSETTO:-0600
TZNAME:MDT
DTSTART:20240310T090000
END:DAYLIGHT
BEGIN:STANDARD
TZOFFSETFROM:-0600
TZOFFSETTO:-0700
TZNAME:MST
DTSTART:20241103T080000
END:STANDARD
END:VTIMEZONE
BEGIN:VEVENT
DTSTART;TZID=America/Boise:20231013T173000
DTEND;TZID=America/Boise:20231013T203000
DTSTAMP:20260422T080756
CREATED:20230816T203549Z
LAST-MODIFIED:20231010T171337Z
UID:2122-1697218200-1697229000@mountainhomechamber.com
SUMMARY:Witches Wine Stroll
DESCRIPTION:Join Us Friday the 13th of October for our final Wine Stroll for the year! Volume 4 of this series will be our Witches Wine Stroll\, packed with vendors\, a DJ\, Costume Contests\, flame throwers and much more! You do not want to miss this event sponsored by Pioneer Federal Credit Union\, Jimmy Schipani – Mortgage Loan Consultant – NMLS #650076 and Mountain Home Pro Real Estate! If you have any questions or would like to have a vendor slot contact the Mountain Home Chamber @ 208-587-4334 \n  \n 
URL:https://mountainhomechamber.com/event/witches-wine-stroll/
LOCATION:Carl Miller Park\, American Legion Blvd.\, Mountain Home\, ID\, 83647
CATEGORIES:Chamber Event,Public Events
ATTACH;FMTTYPE=image/png:https://mountainhomechamber.com/wp-content/uploads/2023/08/1.png
ORGANIZER;CN="Mountain Home Chamber of Commerce":MAILTO:admin@mountainhomechamber.com
END:VEVENT
END:VCALENDAR